BEGIN:VCALENDAR
VERSION:2.0
PRODID:-//Krystyna Szumilas - Poseł na Sejm RP - oficjalna strona WWW - ECPv6.6.3//NONSGML v1.0//EN
CALSCALE:GREGORIAN
METHOD:PUBLISH
X-WR-CALNAME:Krystyna Szumilas - Poseł na Sejm RP - oficjalna strona WWW
X-ORIGINAL-URL:https://szumilas.pl
X-WR-CALDESC:Wydarzenia dla Krystyna Szumilas - Poseł na Sejm RP - oficjalna strona WWW
REFRESH-INTERVAL;VALUE=DURATION:PT1H
X-Robots-Tag:noindex
X-PUBLISHED-TTL:PT1H
BEGIN:VTIMEZONE
TZID:Europe/Warsaw
BEGIN:DAYLIGHT
TZOFFSETFROM:+0100
TZOFFSETTO:+0200
TZNAME:CEST
DTSTART:20160327T010000
END:DAYLIGHT
BEGIN:STANDARD
TZOFFSETFROM:+0200
TZOFFSETTO:+0100
TZNAME:CET
DTSTART:20161030T010000
END:STANDARD
END:VTIMEZONE
BEGIN:VEVENT
DTSTART;TZID=Europe/Warsaw:20160119T080000
DTEND;TZID=Europe/Warsaw:20160119T170000
DTSTAMP:20260423T202559
CREATED:20160121T115610Z
LAST-MODIFIED:20160121T115610Z
UID:1454-1453190400-1453222800@szumilas.pl
SUMMARY:Mikołajki Dziennika Zachodniego
DESCRIPTION:  \n  \n \nZgodnie z wieloletnią tradycją Dziennik Zachodni zorganizował dla swoich czytelników akcję „Wybierz sobie Mikołaja”. Jej finał odbył się 15 stycznia w Teatrze Nowym w Zabrzu. Podczas uroczystej gali w ręce mieszkańców regionu trafiły 33 nagrody ufundowane przez ludzi świata kultury\, nauki\, polityki i biznesu. Z ogromną przyjemnością jako jeden z dziennikowych Mikołajów przekazałam swój upominek swojej krajance z Knurowa. \n  \nWięcej informacji znaleźć można na stronie Dziennika Zachodniego \nhttp://www.dziennikzachodni.pl/artykul/9295792\,wybierz-sobie-mikolaja-jubileuszowa-gala-w-teatrze-nowym-w-zabrzu-zdjecia-wideo\,id\,t.html
URL:https://szumilas.pl/event/mikolajki-dziennika-zachodniego/
CATEGORIES:Main
END:VEVENT
END:VCALENDAR